Workbook

Sheet HYP 1 
B1: N
B2: Budget de ventes N | W2: Apport initial trésorerie | X2: 15000
C3: Janvier | D3: Février | E3: Mars | F3: Avril | G3: Mai | H3: Juin | I3: Juillet | J3: Août | K3: Septembre | L3: Octobre | M3: Novembre | N3: Décembre | O3: à reporter au bilan ou CDR | S3: Compte de résultat Société Red au 31.12.N+1 | W3: Emprunt (principal) | X3: 100000
O4: élément | P4: Montant | S4: Prestation de services | T4: =P5 -> 140000 | W4: Taux d'intérêt annuel | X4: 0.05
B5: CA HT | C5: =($X$7*POWER(1+$X$8,0))/12 -> 11666.667 | D5: =($X$7*POWER(1+$X$8,0))/12 -> 11666.667 | E5: =($X$7*POWER(1+$X$8,0))/12 -> 11666.667 | F5: =($X$7*POWER(1+$X$8,0))/12 -> 11666.667 | G5: =($X$7*POWER(1+$X$8,0))/12 -> 11666.667 | H5: =($X$7*POWER(1+$X$8,0))/12 -> 11666.667 | I5: =($X$7*POWER(1+$X$8,0))/12 -> 11666.667 | J5: =($X$7*POWER(1+$X$8,0))/12 -> 11666.667 | ... N5: =($X$7*POWER(1+$X$8,0))/12 -> 11666.667 | O5: Prestation de services | P5: =SUM(C5:N5) -> 140000 | S5: Subvention d'exploitation | T5: 0 | W5: Durée emprunt (mois) | X5: 60
B6: TVA collectée | C6: =C5*20% -> 2333.3333 | D6: =D5*20% -> 2333.3333 | E6: =E5*20% -> 2333.3333 | F6: =F5*20% -> 2333.3333 | G6: =G5*20% -> 2333.3333 | H6: =H5*20% -> 2333.3333 | I6: =I5*20% -> 2333.3333 | J6: =J5*20% -> 2333.3333 | ... N6: =N5*20% -> 2333.3333 | S6: Total produits d'exploitation | T6: =T4+T5 -> 140000 | W6: Mensualité emprunt (calcul) | X6: =X3*(X4/12)/(1-POWER(1+(X4/12),-X5)) -> 1887.1234
B7: CA TTC | C7: =C5+C6 -> 14000 | D7: =D5+D6 -> 14000 | E7: =E5+E6 -> 14000 | F7: =F5+F6 -> 14000 | G7: =G5+G6 -> 14000 | H7: =H5+H6 -> 14000 | I7: =I5+I6 -> 14000 | J7: =J5+J6 -> 14000 | ... N7: =N5+N6 -> 14000 | S7: Achats de MP | T7: =P14 -> 42000 | W7: CA Année N (HT) | X7: 140000
B8: Règlement | C8: =C7 -> 14000 | D8: =D7 -> 14000 | E8: =E7 -> 14000 | F8: =F7 -> 14000 | G8: =G7 -> 14000 | H8: =H7 -> 14000 | I8: =I7 -> 14000 | J8: =J7 -> 14000 | ... N8: =N7 -> 14000 | O8: Clients | P8: =SUM(C8:N8) -> 168000 | S8: Autres achats et charges externes | T8: =P23 -> 85200 | W8: Croissance CA annuelle | X8: 0.2
S9: Impots, taxes et versements assimilés | T9: =P39 -> 8200 | W9: TVA (taux) | X9: 0.2
S10: Salaires et traitements | T10: =P31 -> 307500 | W10: Charges variables (% CA HT) | X10: 0.3
B11: Budget de achats N | S11: Charges sociales | T11: =P32 -> 123000 | W11: Loyer annuel (HT) | X11: 18000
C12: Janvier | D12: Février | E12: Mars | F12: Avril | G12: Mai | H12: Juin | I12: Juillet | J12: Août | K12: Septembre | L12: Octobre | M12: Novembre | N12: Décembre | O12: à reporter au bilan ou CDR | S12: Dotations d'exploitation | T12: =P28 -> 10714.286 | W12: Autres charges fixes annuelles (HT) | X12: 21000
O13: élément | P13: Montant | S13: Total charges d'exploitation | T13: =SUM(T7:T12) -> 576614.29 | W13: Salaires annuels BRUT | X13: 24000
B14: ACHATS HT | C14: =C5*30% -> 3500 | D14: =D5*30% -> 3500 | E14: =E5*30% -> 3500 | F14: =F5*30% -> 3500 | G14: =G5*30% -> 3500 | H14: =H5*30% -> 3500 | I14: =I5*30% -> 3500 | J14: =J5*30% -> 3500 | ... N14: =N5*30% -> 3500 | O14: Achats | P14: =SUM(C14:N14) -> 42000 | S14: Résultat d'exploitation | T14: =T6-T13 -> -436614.29 | W14: Charges patronales (%) | X14: 0.42
B15: TVA ded sur achats | C15: =C14*20% -> 700 | D15: =D14*20% -> 700 | E15: =E14*20% -> 700 | F15: =F14*20% -> 700 | G15: =G14*20% -> 700 | H15: =H14*20% -> 700 | I15: =I14*20% -> 700 | J15: =J14*20% -> 700 | ... N15: =N14*20% -> 700 | S15: Total produits financiers | T15: 0 | W15: TVA sur autres charges fixes ? (0/1) | X15: 0
B16: Total achat TTC | C16: =C14+C15 -> 4200 | D16: =D14+D15 -> 4200 | E16: =E14+E15 -> 4200 | F16: =F14+F15 -> 4200 | G16: =G14+G15 -> 4200 | H16: =H14+H15 -> 4200 | I16: =I14+I15 -> 4200 | J16: =J14+J15 -> 4200 | ... N16: =N14+N15 -> 4200 | S16: Intérêts et charges assimilées | T16: =P41 -> 4200 | W16: Mois investissement initial (1-12) | X16: 1
B17: Règlement | C17: =C16+'Bilan et CDR N'!K14 -> 27700 | D17: =D16 -> 4200 | E17: =E16 -> 4200 | F17: =F16 -> 4200 | G17: =G16 -> 4200 | H17: =H16 -> 4200 | I17: =I16 -> 4200 | J17: =J16 -> 4200 | K17: =K16 -> 4200 | ... N17: =N16 -> 4200 | O17: Fournisseurs | P17: 0 | S17: Total charges financières | T17: =T16 -> 4200 | W17: Invest. matériel initial (HT) | X17: 45000
S18: Résultat financier | T18: =T15-T17 -> -4200 | W18: Invest. travaux initial (HT) | X18: 55000
S19: Résultat courant avant impôt | T19: =T14-(-T18) -> -440814.29
B20: Budget de production N | S20: Résultat exceptionnel
C21: Janvier | D21: Février | E21: Mars | F21: Avril | G21: Mai | H21: Juin | I21: Juillet | J21: Août | K21: Septembre | L21: Octobre | M21: Novembre | N21: Décembre | O21: à reporter au bilan ou CDR | S21: Résultat net | T21: =T19 -> -440814.29
O22: élément | P22: Montant
B23: Coûts fixes HT | C23: 7100 | D23: 7100 | E23: 7100 | F23: 7100 | G23: 7100 | H23: 7100 | I23: 7100 | J23: 7100 | K23: 7100 | L23: 7100 | M23: 7100 | N23: 7100 | O23: Autres achats & charges externes | P23: =SUM(C23:N23) -> 85200
B24: TVA sur CF | C24: =C23*20% -> 1420 | D24: =D23*20% -> 1420 | E24: =E23*20% -> 1420 | F24: =F23*20% -> 1420 | G24: =G23*20% -> 1420 | H24: =H23*20% -> 1420 | I24: =I23*20% -> 1420 | J24: =J23*20% -> 1420 | ... N24: =N23*20% -> 1420
B25: Total TTC des CF hors amortissement | C25: =C23+C24 -> 8520 | D25: =D23+D24 -> 8520 | E25: =E23+E24 -> 8520 | F25: =F23+F24 -> 8520 | G25: =G23+G24 -> 8520 | H25: =H23+H24 -> 8520 | I25: =I23+I24 -> 8520 | J25: =J23+J24 -> 8520 | ... N25: =N23+N24 -> 8520 | S25: Bilan société Red au 31.12.N +1
B26: Règlement | C26: =+C23+C24 -> 8520 | D26: =+D23+D24 -> 8520 | E26: =+E23+E24 -> 8520 | F26: =+F23+F24 -> 8520 | G26: =+G23+G24 -> 8520 | H26: =+H23+H24 -> 8520 | I26: =+I23+I24 -> 8520 | J26: =+J23+J24 -> 8520 | ... N26: =+N23+N24 -> 8520 | S26: Actif | T26: Brut | U26: Amort et Dep | V26: Net | W26: Passif | X26: Net
B27: Amortissemements | N27: 7500 | O27: Amortissement nouveau mat | P27: =Emprunt!K4 -> 3214.2857 | S27: Immobilisations | T27: =SUM(T28:T31) -> 236500 | U27: =SUM(U28:U29) -> 42314.286 | V27: =SUM(V28:V29) -> 194185.71 | W27: Capitaux propres | X27: =SUM(X28:X31) -> -363086.29
B28: Nouvel amortissement | N28: =P27 -> 3214.2857 | O28: Dotations aux amortissements | P28: =SUM(C29:N29) -> 10714.286 | S28: Installations techniques, matériel et out. ind | T28: 159000 | U28: =8500+AB31 -> 8500 | V28: =T28-U28 -> 150500 | W28: Capital | X28: 50000
B29: Total des amortissements | C29: =C27+C28 -> 0 | D29: =D27+D28 -> 0 | E29: =E27+E28 -> 0 | F29: =F27+F28 -> 0 | G29: =G27+G28 -> 0 | H29: =H27+H28 -> 0 | I29: =I27+I28 -> 0 | J29: =J27+J28 -> 0 | ... N29: =N27+N28 -> 10714.286 | S29: Autres immobilisations corporelles | T29: =55000+22500 -> 77500 | U29: =30600+AA30+P27 -> 33814.286 | V29: =T29-U29 -> 43685.714 | W29: Réserve légale | X29: 5000
B30: Salaire Net | C30: =307500/12 -> 25625 | D30: =307500/12 -> 25625 | E30: =307500/12 -> 25625 | F30: =307500/12 -> 25625 | G30: =307500/12 -> 25625 | H30: =307500/12 -> 25625 | I30: =307500/12 -> 25625 | J30: =307500/12 -> 25625 | ... N30: =307500/12 -> 25625 | W30: Autres réserves et report à nouveau | X30: =17900+'Bilan et CDR N'!C23 -> 22728
B31: Décaissement salaires nets | C31: =C30 -> 25625 | D31: =D30 -> 25625 | E31: =E30 -> 25625 | F31: =F30 -> 25625 | G31: =G30 -> 25625 | H31: =H30 -> 25625 | I31: =I30 -> 25625 | J31: =J30 -> 25625 | ... N31: =N30 -> 25625 | O31: Salaire | P31: =SUM(C31:N31) -> 307500 | W31: Résultat de l'exercice | X31: =T21 -> -440814.29
B32: Charges sociales | C32: =C30*0.4 -> 10250 | D32: =D30*0.4 -> 10250 | E32: =E30*0.4 -> 10250 | F32: =F30*0.4 -> 10250 | G32: =G30*0.4 -> 10250 | H32: =H30*0.4 -> 10250 | I32: =I30*0.4 -> 10250 | J32: =J30*0.4 -> 10250 | ... N32: =N30*0.4 -> 10250 | O32: Charges sociales | P32: =SUM(C32:N32) -> 123000
B33: Décaissement charges sociales | C33: 16000 | D33: =C32 -> 10250 | E33: =D32 -> 10250 | F33: =E32 -> 10250 | G33: =F32 -> 10250 | H33: =G32 -> 10250 | I33: =H32 -> 10250 | J33: =I32 -> 10250 | K33: =J32 -> 10250 | ... N33: =M32 -> 10250 | O33: Dette URSSAF | P33: =N32 -> 10250 | S33: Actif circulant | T33: =SUM(T34:T36) -> -340286.67 | U33: =SUM(U34:U36) -> 0 | V33: =SUM(V34:V36) -> -340286.67 | W33: Dettes | X33: =SUM(X34:X37) -> 100463.33
S34: Stock de matières premières | T34: 15000 | V34: =T34-U34 -> 15000 | W34: Emprunts et dettes auprès des établiss. de crédit | X34: =Emprunt!G9 -> 90000
S35: Créances clients et comptes rattachés | T35: =P8 -> 168000 | V35: =T35-U35 -> 168000 | W35: Dettes fournisseurs et comptes rattachés | X35: =P64+P33 -> 10463.333
B36: Budget des autres frais, de l'IS et de l'emprunt N | S36: Disponibilités | T36: =N85 -> -523286.67 | V36: =T36-U36 -> -523286.67 | W36: Dettes fiscales et sociales (2) | X36: ='HYP 1 '!AC85+'HYP 1 '!AC54 -> 0
C37: Janvier | D37: Février | E37: Mars | F37: Avril | G37: Mai | H37: Juin | I37: Juillet | J37: Août | K37: Septembre | L37: Octobre | M37: Novembre | N37: Décembre | O37: à reporter au bilan ou CDR
O38: élément | P38: Montant | S38: TOTAL ACTIF | T38: =T27+T33 -> -103786.67 | U38: =U27 -> 42314.286 | V38: =T38-U38 -> -146100.95 | W38: TOTAL PASSIF | X38: =X27+X33 -> -262622.95
B39: Impôts et taxes | L39: 8200 | O39: Frais généraux / impôts et taxes | P39: =SUM(C39:N39) -> 8200 | W39: Ecart | X39: =V38-X38 -> 116522
B40: Règlement frais généraux | L40: 8200
...

Sheet Bilan et CDR N
B4: Compte de résultat CAFE PHILO au 31.12.N | F4: Bilan société CAFE PHILO au 31.12.N
B5: Vente de marchandises | C5: 62400 | F5: Actif | G5: Brut | H5: Amort et Dep | I5: Net | J5: Passif | K5: Net
B6: Subventions d'exploitation | F6: Immobilisations | G6: =SUM(G7:G10) -> 214000 | H6: =SUM(H7:H8) -> 39100 | I6: =SUM(I7:I8) -> 174900 | J6: Capitaux propres | K6: =SUM(K7:K10) -> 96750
B7: Total produits d'exploitation | C7: =SUM(C5:C6) -> 62400 | F7: Installations techniques, matériel et out. ind | G7: 159000 | H7: 8500 | I7: 150500 | J7: Capital | K7: 50000
B8: Achats de MP | C8: 18720 | F8: Autres immobilisations corporelles | G8: 55000 | H8: 30600 | I8: 24400 | J8: Réserve légale | K8: 5000
B9: Autres achats et charges externes | C9: 21000 | J9: Autres réserves et report à nouveau | K9: 17900
B10: Impots, taxes et versements assimilés | C10: 1200 | J10: Résultat de l'exercice | K10: 23850
B11: Salaires et traitements | C11: 0
B12: Charges sociales | C12: 0 | F12: Actif circulant | G12: =SUM(G13:G16) -> 100850 | H12: =SUM(H13:H16) -> 0 | I12: =SUM(I13:I16) -> 100850 | J12: Dettes | K12: =SUM(K13:K16) -> 179000
B13: Dotations d'exploitation | C13: 12000 | F13: Stock de matières premières | G13: 15000 | I13: =G13 -> 15000 | J13: Emprunts et dettes auprès des établiss. de crédit | K13: 120000
B14: Total charges d'exploitation | C14: =SUM(C8:C13) -> 52920 | F14: Créances clients et comptes rattachés | G14: 78000 | I14: 78000 | J14: Dettes fournisseurs et comptes rattachés | K14: 23500
B15: Résultat d'exploitation | C15: =C7-C14 -> 9480 | F15: Autres créances (1) | G15: 1500 | I15: 1500 | J15: Dettes fiscales et sociales (2) | K15: 31000
B16: Total produits financiers | C16: 0 | F16: Disponibilités | G16: 6350 | I16: 6350 | J16: Autres dettes (3) | K16: 4500
B17: Intérêts et charges assimilées | C17: 3800
B18: Total charges financières | C18: =C17 -> 3800 | F18: TOTAL ACTIF | G18: =G6+G12 -> 314850 | H18: =H6 -> 39100 | I18: =G18-H18 -> 275750 | J18: TOTAL PASSIF | K18: =K6+K12 -> 275750
B19: Résultat financier | C19: =C16-C18 -> -3800 | F19: (1) Réglées en Juin N+1 | J19: ECART | K19: =I18-K18 -> 0
B20: Résultat courant avant impôt | C20: =C15-C18 -> 5680
B21: Impot sur les sociétés | C21: =C20*15/100 -> 852 | F21: (2) Dette URSSAF: 16 000 € et TVA à décaisser: 15 000 € (payés en janv N+1)
B22: Résultat exceptionnel | C22: 0 | F22: (3) Paiement étalé sur 12 mois en N+1
B23: Résultat net | C23: =C20-C21 -> 4828
B26: HYPOTHESE PESSIMISSTE
B35: HYPOTHESE MOYENNE
B40: Compte de résultat CAFE PHILO au 31.12.N | F40: Bilan société CAFE PHILO au 31.12.N
B41: Prestation de services | C41: 785500 | F41: Actif | G41: Brut | H41: Amort et Dep | I41: Net | J41: Passif | K41: Net
B42: Subventions d'exploitation | C42: 8000 | F42: Immobilisations | G42: =SUM(G43:G46) -> 214000 | H42: =SUM(H43:H44) -> 39100 | I42: =SUM(I43:I44) -> 174900 | J42: Capitaux propres | K42: =SUM(K43:K46) -> 96750
B43: Total produits d'exploitation | C43: =SUM(C41:C42) -> 793500 | F43: Installations techniques, matériel et out. ind | G43: 159000 | H43: 8500 | I43: 150500 | J43: Capital | K43: 50000
B44: Achats de MP | C44: 235000 | F44: Autres immobilisations corporelles | G44: 55000 | H44: 30600 | I44: 24400 | J44: Réserve légale | K44: 5000
B45: Autres achats et charges externes | C45: 85000 | J45: Autres réserves et report à nouveau | K45: 17900
B46: Impots, taxes et versements assimilés | C46: 6400 | J46: Résultat de l'exercice | K46: 23850
B47: Salaires et traitements | C47: 307500
B48: Charges sociales | C48: 123000 | F48: Actif circulant | G48: =SUM(G49:G52) -> 100850 | H48: =SUM(H49:H52) -> 0 | I48: =SUM(I49:I52) -> 100850 | J48: Dettes | K48: =SUM(K49:K52) -> 179000
B49: Dotations d'exploitation | C49: 7500 | F49: Stock de matières premières | G49: 15000 | I49: =G49 -> 15000 | J49: Emprunts et dettes auprès des établiss. de crédit | K49: 120000
B50: Total charges d'exploitation | C50: =SUM(C44:C49) -> 764400 | F50: Créances clients et comptes rattachés | G50: 78000 | I50: 78000 | J50: Dettes fournisseurs et comptes rattachés | K50: 23500
B51: Résultat d'exploitation | C51: =C43-C50 -> 29100 | F51: Autres créances (1) | G51: 1500 | I51: 1500 | J51: Dettes fiscales et sociales (2) | K51: 31000
B52: Total produits financiers | C52: 0 | F52: Disponibilités | G52: 6350 | I52: 6350 | J52: Autres dettes (3) | K52: 4500
B53: Intérêts et charges assimilées | C53: 5250
B54: Total charges financières | C54: 5250 | F54: TOTAL ACTIF | G54: =G42+G48 -> 314850 | H54: =H42 -> 39100 | I54: =G54-H54 -> 275750 | J54: TOTAL PASSIF | K54: =K42+K48 -> 275750
B55: Résultat financier | C55: -5250 | F55: (1) Réglées en Juin N+1 | J55: ECART | K55: =I54-K54 -> 0
B56: Résultat courant avant impôt | C56: 23850 | F56: (2) Dette URSSAF: 16 000 € et TVA à décaisser: 15 000 € (payés en janv N+1)
B57: Résultat exceptionnel | C57: 0 | F57: (3) Paiement étalé sur 12 mois en N+1
...

Sheet Feuil1
B1: HYPOTHÈSE — Pessimiste — Paris 11ème
A4: Apport initial trésorerie | B4: 15000
A5: Emprunt (principal) | B5: 100000
A6: Taux d'intérêt annuel | B6: 0.05
A7: Durée emprunt (mois) | B7: 60
A8: Mensualité emprunt (calcul) | B8: =$B$5*($B$6/12)/(1-POWER(1+($B$6/12),-$B$7)) -> 1887.1234
A9: CA Année N (HT) | B9: 265000
A10: Croissance CA annuelle | B10: 0.2
A11: TVA (taux) | B11: 0.2
A12: Charges variables (% CA HT) | B12: 0.3
A13: Loyer annuel (HT) | B13: 12960
A14: Autres charges fixes annuelles (HT) | B14: 21000
A15: Salaires annuels BRUT | B15: 31000
A16: Charges patronales (%) | B16: 0.42
A17: TVA sur autres charges fixes ? (0/1) | B17: 0
A18: Mois investissement initial (1-12) | B18: 1
A19: Invest. matériel initial (HT) | B19: 35000
A20: Invest. travaux initial (HT) | B20: 65000
A26: N
A27: Ligne | B27: Jan | C27: Fév | D27: Mar | E27: Avr | F27: Mai | G27: Jun | H27: Jul | I27: Aoû | J27: Sep | K27: Oct | L27: Nov | M27: Déc | N27: TOTAL
A28: CA (HT)
A29: TVA collectée
A30: CA (TTC)
A31: Encaissements clients (TTC)
A36: Ligne | B36: Jan | C36: Fév | D36: Mar | E36: Avr | F36: Mai | G36: Jun | H36: Jul | I36: Aoû | J36: Sep | K36: Oct | L36: Nov | M36: Déc | N36: TOTAL
A37: Achats / charges variables (HT)
A38: TVA déductible sur achats
A39: Achats (TTC)
A40: Décaissements fournisseurs (TTC)
A44: Ligne | B44: Jan | C44: Fév | D44: Mar | E44: Avr | F44: Mai | G44: Jun | H44: Jul | I44: Aoû | J44: Sep | K44: Oct | L44: Nov | M44: Déc | N44: TOTAL
A45: Loyer (HT)
A46: Autres charges fixes (HT)
A47: TVA sur autres charges fixes
A48: Autres charges fixes (TTC)
A49: Salaires + charges patronales
A50: Décaissements production (total)
A54: Ligne | B54: Jan | C54: Fév | D54: Mar | E54: Avr | F54: Mai | G54: Jun | H54: Jul | I54: Aoû | J54: Sep | K54: Oct | L54: Nov | M54: Déc | N54: TOTAL
A55: Solde emprunt début
A56: Intérêts
A57: Remboursement capital
...

Sheet Feuil2
B1: HYPOTHÈSE — Moyenne — Paris 19/20ème
A26: N
A27: Ligne | B27: Jan | C27: Fév | D27: Mar | E27: Avr | F27: Mai | G27: Jun | H27: Jul | I27: Aoû | J27: Sep | K27: Oct | L27: Nov | M27: Déc | N27: TOTAL
A28: CA (HT)
A29: TVA collectée
A30: CA (TTC)
A31: Encaissements clients (TTC)
A36: Ligne | B36: Jan | C36: Fév | D36: Mar | E36: Avr | F36: Mai | G36: Jun | H36: Jul | I36: Aoû | J36: Sep | K36: Oct | L36: Nov | M36: Déc | N36: TOTAL
A37: Achats / charges variables (HT)
A38: TVA déductible sur achats
A39: Achats (TTC)
A40: Décaissements fournisseurs (TTC)
A44: Ligne | B44: Jan | C44: Fév | D44: Mar | E44: Avr | F44: Mai | G44: Jun | H44: Jul | I44: Aoû | J44: Sep | K44: Oct | L44: Nov | M44: Déc | N44: TOTAL
A45: Loyer (HT)
A46: Autres charges fixes (HT)
A47: TVA sur autres charges fixes
A48: Autres charges fixes (TTC)
A49: Salaires + charges patronales
A50: Décaissements production (total)
A54: Ligne | B54: Jan | C54: Fév | D54: Mar | E54: Avr | F54: Mai | G54: Jun | H54: Jul | I54: Aoû | J54: Sep | K54: Oct | L54: Nov | M54: Déc | N54: TOTAL
A55: Solde emprunt début
A56: Intérêts
A57: Remboursement capital
A58: Mensualité (capital+int.)
A59: Solde emprunt fin
A60: Résultat avant IS (EBT) (mensuel)
A61: IS (provision mensuelle) (taux 25%)
A62: Décaissements autres (IS + mensualité)
A66: Ligne | B66: Jan | C66: Fév | D66: Mar | E66: Avr | F66: Mai | G66: Jun | H66: Jul | I66: Aoû | J66: Sep | K66: Oct | L66: Nov | M66: Déc | N66: TOTAL
A67: Matériel (HT)
A68: Travaux (HT)
A69: Investissements (HT) total
A70: TVA déductible sur immo
A71: Investissements (TTC)
A72: Décaissements investissements (TTC)
A76: Ligne | B76: Jan | C76: Fév | D76: Mar | E76: Avr | F76: Mai | G76: Jun | H76: Jul | I76: Aoû | J76: Sep | K76: Oct | L76: Nov | M76: Déc | N76: TOTAL
A77: TVA collectée
A78: TVA déductible achats
A79: TVA déductible autres (fixes+immo)
A80: TVA nette
...

Sheet Feuil3
B1: HYPOTHÈSE — Optimiste — Saint-Ouen
A26: ANNEE 1
A27: Ligne | B27: Jan | C27: Fév | D27: Mar | E27: Avr | F27: Mai | G27: Jun | H27: Jul | I27: Aoû | J27: Sep | K27: Oct | L27: Nov | M27: Déc | N27: TOTAL
A28: CA (HT)
A29: TVA collectée
A30: CA (TTC)
A31: Encaissements clients (TTC)
A36: Ligne | B36: Jan | C36: Fév | D36: Mar | E36: Avr | F36: Mai | G36: Jun | H36: Jul | I36: Aoû | J36: Sep | K36: Oct | L36: Nov | M36: Déc | N36: TOTAL
A37: Achats / charges variables (HT)
A38: TVA déductible sur achats
A39: Achats (TTC)
A40: Décaissements fournisseurs (TTC)
A44: Ligne | B44: Jan | C44: Fév | D44: Mar | E44: Avr | F44: Mai | G44: Jun | H44: Jul | I44: Aoû | J44: Sep | K44: Oct | L44: Nov | M44: Déc | N44: TOTAL
A45: Loyer (HT)
A46: Autres charges fixes (HT)
A47: TVA sur autres charges fixes
A48: Autres charges fixes (TTC)
A49: Salaires + charges patronales
A50: Décaissements production (total)
A54: Ligne | B54: Jan | C54: Fév | D54: Mar | E54: Avr | F54: Mai | G54: Jun | H54: Jul | I54: Aoû | J54: Sep | K54: Oct | L54: Nov | M54: Déc | N54: TOTAL
A55: Solde emprunt début
A56: Intérêts
A57: Remboursement capital
A58: Mensualité (capital+int.)
A59: Solde emprunt fin
A60: Résultat avant IS (EBT) (mensuel)
A61: IS (provision mensuelle) (taux 25%)
A62: Décaissements autres (IS + mensualité)
A66: Ligne | B66: Jan | C66: Fév | D66: Mar | E66: Avr | F66: Mai | G66: Jun | H66: Jul | I66: Aoû | J66: Sep | K66: Oct | L66: Nov | M66: Déc | N66: TOTAL
A67: Matériel (HT)
A68: Travaux (HT)
A69: Investissements (HT) total
A70: TVA déductible sur immo
A71: Investissements (TTC)
A72: Décaissements investissements (TTC)
A76: Ligne | B76: Jan | C76: Fév | D76: Mar | E76: Avr | F76: Mai | G76: Jun | H76: Jul | I76: Aoû | J76: Sep | K76: Oct | L76: Nov | M76: Déc | N76: TOTAL
A77: TVA collectée
A78: TVA déductible achats
A79: TVA déductible autres (fixes+immo)
A80: TVA nette
...

Sheet Budget Prev 3 années SANS PRECO
B1: N+1
B2: Budget de ventes N+1
C3: Janvier | D3: Février | E3: Mars | F3: Avril | G3: Mai | H3: Juin | I3: Juillet | J3: Août | K3: Septembre | L3: Octobre | M3: Novembre | N3: Décembre | O3: à reporter au bilan ou CDR | S3: Compte de résultat Société Red au 31.12.N+1
O4: élément | P4: Montant | S4: Prestation de services | T4: =P5 -> 63024
B5: CA HT | C5: ='Bilan et CDR N'!$C$5*1.01/12 -> 5252 | D5: ='Bilan et CDR N'!$C$5*1.01/12 -> 5252 | E5: ='Bilan et CDR N'!$C$5*1.01/12 -> 5252 | F5: ='Bilan et CDR N'!$C$5*1.01/12 -> 5252 | G5: ='Bilan et CDR N'!$C$5*1.01/12 -> 5252 | H5: ='Bilan et CDR N'!$C$5*1.01/12 -> 5252 | I5: ='Bilan et CDR N'!$C$5*1.01/12 -> 5252 | J5: ='Bilan et CDR N'!$C$5*1.01/12 -> 5252 | ... N5: ='Bilan et CDR N'!$C$5*1.01/12 -> 5252 | O5: Prestation de services | P5: =SUM(C5:N5) -> 63024 | S5: Subvention d'exploitation | T5: 0
B6: TVA collectée | C6: =C5*20% -> 1050.4 | D6: =D5*20% -> 1050.4 | E6: =E5*20% -> 1050.4 | F6: =F5*20% -> 1050.4 | G6: =G5*20% -> 1050.4 | H6: =H5*20% -> 1050.4 | I6: =I5*20% -> 1050.4 | J6: =J5*20% -> 1050.4 | ... N6: =N5*20% -> 1050.4 | S6: Total produits d'exploitation | T6: =T4+T5 -> 63024
B7: CA TTC | C7: =C5+C6 -> 6302.4 | D7: =D5+D6 -> 6302.4 | E7: =E5+E6 -> 6302.4 | F7: =F5+F6 -> 6302.4 | G7: =G5+G6 -> 6302.4 | H7: =H5+H6 -> 6302.4 | I7: =I5+I6 -> 6302.4 | J7: =J5+J6 -> 6302.4 | ... N7: =N5+N6 -> 6302.4 | S7: Achats de MP | T7: =P14 -> 18907.2
B8: Règlement | C8: ='Bilan et CDR N'!I14 -> 78000 | D8: =C7 -> 6302.4 | E8: =D7 -> 6302.4 | F8: =E7 -> 6302.4 | G8: =F7 -> 6302.4 | H8: =G7 -> 6302.4 | I8: =H7 -> 6302.4 | J8: =I7 -> 6302.4 | K8: =J7 -> 6302.4 | ... N8: =M7 -> 6302.4 | O8: Clients | P8: =N7 -> 6302.4 | S8: Autres achats et charges externes | T8: =P23 -> 85200
S9: Impots, taxes et versements assimilés | T9: =P39 -> 8200
S10: Salaires et traitements | T10: =P31 -> 307500
B11: Budget de achats N+1 | S11: Charges sociales | T11: =P32 -> 123000
C12: Janvier | D12: Février | E12: Mars | F12: Avril | G12: Mai | H12: Juin | I12: Juillet | J12: Août | K12: Septembre | L12: Octobre | M12: Novembre | N12: Décembre | O12: à reporter au bilan ou CDR | S12: Dotations d'exploitation | T12: =P28 -> 10714.286
O13: élément | P13: Montant | S13: Total charges d'exploitation | T13: =SUM(T7:T12) -> 553521.49
B14: ACHATS HT | C14: =C5*30% -> 1575.6 | D14: =D5*30% -> 1575.6 | E14: =E5*30% -> 1575.6 | F14: =F5*30% -> 1575.6 | G14: =G5*30% -> 1575.6 | H14: =H5*30% -> 1575.6 | I14: =I5*30% -> 1575.6 | J14: =J5*30% -> 1575.6 | ... N14: =N5*30% -> 1575.6 | O14: Achats | P14: =SUM(C14:N14) -> 18907.2 | S14: Résultat d'exploitation | T14: =T6-T13 -> -490497.49
B15: TVA ded sur achats | C15: =C14*20% -> 315.12 | D15: =D14*20% -> 315.12 | E15: =E14*20% -> 315.12 | F15: =F14*20% -> 315.12 | G15: =G14*20% -> 315.12 | H15: =H14*20% -> 315.12 | I15: =I14*20% -> 315.12 | J15: =J14*20% -> 315.12 | ... N15: =N14*20% -> 315.12 | S15: Total produits financiers | T15: 0
B16: Total achat TTC | C16: =C14+C15 -> 1890.72 | D16: =D14+D15 -> 1890.72 | E16: =E14+E15 -> 1890.72 | F16: =F14+F15 -> 1890.72 | G16: =G14+G15 -> 1890.72 | H16: =H14+H15 -> 1890.72 | I16: =I14+I15 -> 1890.72 | J16: =J14+J15 -> 1890.72 | ... N16: =N14+N15 -> 1890.72 | S16: Intérêts et charges assimilées | T16: =P41 -> 4200
B17: Règlement | C17: =C16+'Bilan et CDR N'!K14 -> 25390.72 | D17: =D16 -> 1890.72 | E17: =E16 -> 1890.72 | F17: =F16 -> 1890.72 | G17: =G16 -> 1890.72 | H17: =H16 -> 1890.72 | I17: =I16 -> 1890.72 | J17: =J16 -> 1890.72 | K17: =K16 -> 1890.72 | ... N17: =N16 -> 1890.72 | O17: Fournisseurs | P17: 0 | S17: Total charges financières | T17: =T16 -> 4200
S18: Résultat financier | T18: =T15-T17 -> -4200
S19: Résultat courant avant impôt | T19: =T14-(-T18) -> -494697.49
B20: Budget de production N+1 | S20: Résultat exceptionnel
C21: Janvier | D21: Février | E21: Mars | F21: Avril | G21: Mai | H21: Juin | I21: Juillet | J21: Août | K21: Septembre | L21: Octobre | M21: Novembre | N21: Décembre | O21: à reporter au bilan ou CDR | S21: Résultat net | T21: =T19 -> -494697.49
O22: élément | P22: Montant
B23: Coûts fixes HT | C23: 7100 | D23: 7100 | E23: 7100 | F23: 7100 | G23: 7100 | H23: 7100 | I23: 7100 | J23: 7100 | K23: 7100 | L23: 7100 | M23: 7100 | N23: 7100 | O23: Autres achats & charges externes | P23: =SUM(C23:N23) -> 85200
B24: TVA sur CF | C24: =C23*20% -> 1420 | D24: =D23*20% -> 1420 | E24: =E23*20% -> 1420 | F24: =F23*20% -> 1420 | G24: =G23*20% -> 1420 | H24: =H23*20% -> 1420 | I24: =I23*20% -> 1420 | J24: =J23*20% -> 1420 | ... N24: =N23*20% -> 1420
B25: Total TTC des CF hors amortissement | C25: =C23+C24 -> 8520 | D25: =D23+D24 -> 8520 | E25: =E23+E24 -> 8520 | F25: =F23+F24 -> 8520 | G25: =G23+G24 -> 8520 | H25: =H23+H24 -> 8520 | I25: =I23+I24 -> 8520 | J25: =J23+J24 -> 8520 | ... N25: =N23+N24 -> 8520 | S25: Bilan société Red au 31.12.N +1
B26: Règlement | C26: =+C23+C24 -> 8520 | D26: =+D23+D24 -> 8520 | E26: =+E23+E24 -> 8520 | F26: =+F23+F24 -> 8520 | G26: =+G23+G24 -> 8520 | H26: =+H23+H24 -> 8520 | I26: =+I23+I24 -> 8520 | J26: =+J23+J24 -> 8520 | ... N26: =+N23+N24 -> 8520 | S26: Actif | T26: Brut | U26: Amort et Dep | V26: Net | W26: Passif | X26: Net
B27: Amortissemements | N27: 7500 | O27: Amortissement nouveau mat | P27: =Emprunt!K4 -> 3214.2857 | S27: Immobilisations | T27: =SUM(T28:T31) -> 236500 | U27: =SUM(U28:U29) -> 49814.286 | V27: =SUM(V28:V29) -> 186685.71 | W27: Capitaux propres | X27: =SUM(X28:X31) -> -416969.49 | AA27: repartion 7500 d'amortissement immo
B28: Nouvel amortissement | N28: =P27 -> 3214.2857 | O28: Dotations aux amortissements | P28: =SUM(C29:N29) -> 10714.286 | S28: Installations techniques, matériel et out. ind | T28: 159000 | U28: =8500+AB31 -> 14072.43 | V28: =T28-U28 -> 144927.57 | W28: Capital | X28: 50000 | AA28: 55
B29: Total des amortissements | C29: =C27+C28 -> 0 | D29: =D27+D28 -> 0 | E29: =E27+E28 -> 0 | F29: =F27+F28 -> 0 | G29: =G27+G28 -> 0 | H29: =H27+H28 -> 0 | I29: =I27+I28 -> 0 | J29: =J27+J28 -> 0 | ... N29: =N27+N28 -> 10714.286 | S29: Autres immobilisations corporelles | T29: =55000+22500 -> 77500 | U29: =30600+AA30+P27 -> 35741.856 | V29: =T29-U29 -> 41758.144 | W29: Réserve légale | X29: 5000 | AB29: 159
B30: Salaire Net | C30: =307500/12 -> 25625 | D30: =307500/12 -> 25625 | E30: =307500/12 -> 25625 | F30: =307500/12 -> 25625 | G30: =307500/12 -> 25625 | H30: =307500/12 -> 25625 | I30: =307500/12 -> 25625 | J30: =307500/12 -> 25625 | ... N30: =307500/12 -> 25625 | W30: Autres réserves et report à nouveau | X30: =17900+'Bilan et CDR N'!C23 -> 22728 | AA30: =AA28/AB30*7500 -> 1927.5701 | AB30: 214
B31: Décaissement salaires nets | C31: =C30 -> 25625 | D31: =D30 -> 25625 | E31: =E30 -> 25625 | F31: =F30 -> 25625 | G31: =G30 -> 25625 | H31: =H30 -> 25625 | I31: =I30 -> 25625 | J31: =J30 -> 25625 | ... N31: =N30 -> 25625 | O31: Salaire | P31: =SUM(C31:N31) -> 307500 | W31: Résultat de l'exercice | X31: =T21 -> -494697.49 | AB31: =AB29/AB30*7500 -> 5572.4299
B32: Charges sociales | C32: =C30*0.4 -> 10250 | D32: =D30*0.4 -> 10250 | E32: =E30*0.4 -> 10250 | F32: =F30*0.4 -> 10250 | G32: =G30*0.4 -> 10250 | H32: =H30*0.4 -> 10250 | I32: =I30*0.4 -> 10250 | J32: =J30*0.4 -> 10250 | ... N32: =N30*0.4 -> 10250 | O32: Charges sociales | P32: =SUM(C32:N32) -> 123000
B33: Décaissement charges sociales | C33: 16000 | D33: =C32 -> 10250 | E33: =D32 -> 10250 | F33: =E32 -> 10250 | G33: =F32 -> 10250 | H33: =G32 -> 10250 | I33: =H32 -> 10250 | J33: =I32 -> 10250 | K33: =J32 -> 10250 | ... N33: =M32 -> 10250 | O33: Dette URSSAF | P33: =N32 -> 10250 | S33: Actif circulant | T33: =SUM(T34:T36) -> -485067.92 | U33: =SUM(U34:U36) -> 0 | V33: =SUM(V34:V36) -> -485067.92 | W33: Dettes | X33: =SUM(X34:X37) -> 99565.28
S34: Stock de matières premières | T34: 15000 | V34: =T34-U34 -> 15000 | W34: Emprunts et dettes auprès des établiss. de crédit | X34: =Emprunt!G9 -> 90000
S35: Créances clients et comptes rattachés | T35: =P8 -> 6302.4 | V35: =T35-U35 -> 6302.4 | W35: Dettes fournisseurs et comptes rattachés | X35: =P64+P33 -> 9565.28
B36: Budget des autres frais, de l'IS et de l'emprunt N+1 | S36: Disponibilités | T36: =N85 -> -506370.32 | V36: =T36-U36 -> -506370.32 | W36: Dettes fiscales et sociales (2) | X36: ='Budget Prev 3 années SANS PRECO'!AC85+'Budget Prev 3 années SANS PRECO'!AC54 -> 0
C37: Janvier | D37: Février | E37: Mars | F37: Avril | G37: Mai | H37: Juin | I37: Juillet | J37: Août | K37: Septembre | L37: Octobre | M37: Novembre | N37: Décembre | O37: à reporter au bilan ou CDR
O38: élément | P38: Montant | S38: TOTAL ACTIF | T38: =T27+T33 -> -248567.92 | U38: =U27 -> 49814.286 | V38: =T38-U38 -> -298382.21 | W38: TOTAL PASSIF | X38: =X27+X33 -> -317404.21
B39: Impôts et taxes | L39: 8200 | O39: Frais généraux / impôts et taxes | P39: =SUM(C39:N39) -> 8200 | W39: Ecart | X39: =V38-X38 -> 19022
B40: Règlement frais généraux | L40: 8200
...

Sheet Bilan et CDR N+1
B4: Compte de résultat Société Red au 31.12.N | F4: Bilan société Red au 31.12.N +1
B5: Prestation de services | C5: ='Budget Prev 3 années SANS PRECO'!P5 -> 63024 | F5: Actif | G5: Brut | H5: Amort et Dep | I5: Net | J5: Passif | K5: Net
B6: Subvention d'exploitation | C6: 0 | F6: Immobilisations | G6: =SUM(G7:G10) -> 236500 | H6: =SUM(H7:H8) -> 49814.286 | I6: =SUM(I7:I8) -> 186685.71 | J6: Capitaux propres | K6: =SUM(K7:K10) -> -416969.49
B7: Total produits d'exploitation | C7: =C5+C6 -> 63024 | F7: Installations techniques, matériel et out. ind | G7: 159000 | H7: =8500+J25 -> 14072.43 | I7: =G7-H7 -> 144927.57 | J7: Capital | K7: 50000
B8: Achats de MP | C8: ='Budget Prev 3 années SANS PRECO'!P14 -> 18907.2 | F8: Autres immobilisations corporelles | G8: =55000+22500 -> 77500 | H8: =30600+'Budget Prev 3 années SANS PRECO'!P27+I24 -> 35741.856 | I8: =G8-H8 -> 41758.144 | J8: Réserve légale | K8: 5000
B9: Autres achats et charges externes | C9: ='Budget Prev 3 années SANS PRECO'!P23 -> 85200 | J9: Autres réserves et report à nouveau | K9: =17900+'Bilan et CDR N'!C23 -> 22728
B10: Impots, taxes et versements assimilés | C10: ='Budget Prev 3 années SANS PRECO'!P39 -> 8200 | J10: Résultat de l'exercice | K10: =C22 -> -494697.49
B11: Salaires et traitements | C11: ='Budget Prev 3 années SANS PRECO'!P31 -> 307500
B12: Charges sociales | C12: ='Budget Prev 3 années SANS PRECO'!P32 -> 123000 | F12: Actif circulant | G12: =SUM(G13:G15) -> -485067.92 | H12: =SUM(H13:H15) -> 0 | I12: =SUM(I13:I15) -> -485067.92 | J12: Dettes | K12: =SUM(K13:K16) -> 99565.28
B13: Dotations d'exploitation | C13: ='Budget Prev 3 années SANS PRECO'!P28 -> 10714.286 | F13: Stock de matières premières | G13: 15000 | I13: =G13-H13 -> 15000 | J13: Emprunts et dettes auprès des établiss. de crédit | K13: =Emprunt!G9 -> 90000
B14: Total charges d'exploitation | C14: =SUM(C8:C13) -> 553521.49 | F14: Créances clients et comptes rattachés | G14: ='Budget Prev 3 années SANS PRECO'!P8 -> 6302.4 | I14: =G14-H14 -> 6302.4 | J14: Dettes fournisseurs et comptes rattachés | K14: =0 -> 0
B15: Résultat d'exploitation | C15: =C7-C14 -> -490497.49 | F15: Disponibilités | G15: ='Budget Prev 3 années SANS PRECO'!N85 -> -506370.32 | I15: =G15-H15 -> -506370.32 | J15: Dettes fiscales et sociales (2) | K15: ='Budget Prev 3 années SANS PRECO'!P64+'Budget Prev 3 années SANS PRECO'!P33 -> 9565.28
B16: Total produits financiers | C16: 0
B17: Intérêts et charges assimilées | C17: ='Budget Prev 3 années SANS PRECO'!P41 -> 4200 | F17: TOTAL ACTIF | G17: =G6+G12 -> -248567.92 | H17: =H6 -> 49814.286 | I17: =G17-H17 -> -298382.21 | J17: TOTAL PASSIF | K17: =K6+K12 -> -317404.21
B18: Total charges financières | C18: =C17 -> 4200 | J18: ECART | K18: =I17-K17 -> 19022
B19: Résultat financier | C19: =C16-C18 -> -4200
B20: Résultat courant avant impôt | C20: =C15-(-C19) -> -494697.49
B21: Résultat exceptionnel | I21: repartion 7500 d'amortissement immo
B22: Résultat net | C22: =C20 -> -494697.49 | I22: 55
J23: 159
I24: =I22/J24*7500 -> 1927.5701 | J24: 214
J25: =J23/J24*7500 -> 5572.4299

Sheet Bilan et CDR N+1 (2)
B4: Compte de résultat Société Red au 31.12.N | F4: Bilan société Red au 31.12.N +1
B5: Prestation de services | C5: ='Budget Prev 3 années SANS PRECO'!P5 -> 63024 | F5: Actif | G5: Brut | H5: Amort et Dep | I5: Net | J5: Passif | K5: Net
B6: Subvention d'exploitation | C6: 0 | F6: Immobilisations | G6: =SUM(G7:G10) -> 236500 | H6: =SUM(H7:H8) -> 49814.286 | I6: =SUM(I7:I8) -> 186685.71 | J6: Capitaux propres | K6: =SUM(K7:K10) -> -396126.79
B7: Total produits d'exploitation | C7: =C5+C6 -> 63024 | F7: Installations techniques, matériel et out. ind | G7: 159000 | H7: =8500+J25 -> 14072.43 | I7: =G7-H7 -> 144927.57 | J7: Capital | K7: =50000+25000 -> 75000
B8: Achats de MP | C8: ='Budget Prev 3 années SANS PRECO'!P14 -> 18907.2 | F8: Autres immobilisations corporelles | G8: =55000+22500 -> 77500 | H8: =30600+'Budget Prev 3 années SANS PRECO'!P27+I24 -> 35741.856 | I8: =G8-H8 -> 41758.144 | J8: Réserve légale | K8: 5000
B9: Autres achats et charges externes | C9: ='Budget Prev 3 années SANS PRECO'!P23 -> 85200 | J9: Autres réserves et report à nouveau | K9: =17900+'Bilan et CDR N'!C23 -> 22728
B10: Impots, taxes et versements assimilés | C10: ='Budget Prev 3 années SANS PRECO'!P39 -> 8200 | J10: Résultat de l'exercice | K10: =C22 -> -498854.79
B11: Salaires et traitements | C11: ='Budget Prev 3 années SANS PRECO'!P31 -> 307500
B12: Charges sociales | C12: ='Budget Prev 3 années SANS PRECO'!P32 -> 123000 | F12: Actif circulant | G12: =SUM(G13:G15) -> -414835.22 | H12: =SUM(H13:H15) -> 0 | I12: =SUM(I13:I15) -> -414835.22 | J12: Dettes | K12: =SUM(K13:K16) -> 148955.28
B13: Dotations d'exploitation | C13: ='Budget Prev 3 années SANS PRECO'!P28 -> 10714.286 | F13: Stock de matières premières | G13: 15000 | I13: =G13-H13 -> 15000 | J13: Emprunts et dettes auprès des établiss. de crédit | K13: =80000 -> 80000
B14: Total charges d'exploitation | C14: =SUM(C8:C13) -> 553521.49 | F14: Créances clients et comptes rattachés | G14: ='Budget Prev 3 années SANS PRECO'!P8 -> 6302.4 | I14: =G14-H14 -> 6302.4 | J14: Dettes fournisseurs et comptes rattachés | K14: =0 -> 0
B15: Résultat d'exploitation | C15: =C7-C14 -> -490497.49 | F15: Disponibilités | G15: ='Budget Prev 3 années SANS PRECO'!N85-C17+4200+25000-10000+K16 -> -436137.62 | I15: =G15-H15 -> -436137.62 | J15: Dettes fiscales et sociales (2) | K15: ='Budget Prev 3 années SANS PRECO'!P64+'Budget Prev 3 années SANS PRECO'!P33 -> 9565.28
B16: Total produits financiers | C16: 0 | J16: cbc | K16: ='Hypothèse | 3 ans'!T51+'Hypothèse | 3 ans'!U51 -> 59390
B17: Intérêts et charges assimilées | C17: ='Budget Prev 3 années SANS PRECO'!P41+'Hypothèse | 3 ans'!U54+'Hypothèse | 3 ans'!V54 -> 8357.3 | F17: TOTAL ACTIF | G17: =G6+G12 -> -178335.22 | H17: =H6 -> 49814.286 | I17: =G17-H17 -> -228149.51 | J17: TOTAL PASSIF | K17: =K6+K12 -> -247171.51
B18: Total charges financières | C18: =C17 -> 8357.3 | J18: ECART | K18: =I17-K17 -> 19022
B19: Résultat financier | C19: =C16-C18 -> -8357.3
B20: Résultat courant avant impôt | C20: =C15-(-C19) -> -498854.79
B21: Résultat exceptionnel | I21: repartion 7500 d'amortissement immo
B22: Résultat net | C22: =C20 -> -498854.79 | I22: 55
J23: 159
I24: =I22/J24*7500 -> 1927.5701 | J24: 214
J25: =J23/J24*7500 -> 5572.4299

Sheet N+2 
B2: Budget de ventes N+2
C3: Janvier | D3: Février | E3: Mars | F3: Avril | G3: Mai | H3: Juin | I3: Juillet | J3: Août | K3: Septembre | L3: Octobre | M3: Novembre | N3: Décembre | O3: à reporter au bilan ou CDR
O4: élément | P4: Montant
B5: CA HT | C5: ='Bilan et CDR N+1'!$C$5*1.03/12 -> 5409.56 | D5: ='Bilan et CDR N+1'!$C$5*1.03/12 -> 5409.56 | E5: ='Bilan et CDR N+1'!$C$5*1.03/12 -> 5409.56 | F5: ='Bilan et CDR N+1'!$C$5*1.03/12 -> 5409.56 | G5: ='Bilan et CDR N+1'!$C$5*1.03/12 -> 5409.56 | H5: ='Bilan et CDR N+1'!$C$5*1.03/12 -> 5409.56 | I5: ='Bilan et CDR N+1'!$C$5*1.03/12 -> 5409.56 | J5: ='Bilan et CDR N+1'!$C$5*1.03/12 -> 5409.56 | ... N5: ='Bilan et CDR N+1'!$C$5*1.03/12 -> 5409.56 | O5: Prestation de services | P5: =SUM(C5:N5) -> 64914.72
B6: TVA collectée | C6: =C5*20% -> 1081.912 | D6: =D5*20% -> 1081.912 | E6: =E5*20% -> 1081.912 | F6: =F5*20% -> 1081.912 | G6: =G5*20% -> 1081.912 | H6: =H5*20% -> 1081.912 | I6: =I5*20% -> 1081.912 | J6: =J5*20% -> 1081.912 | ... N6: =N5*20% -> 1081.912
B7: CA TTC | C7: =C5+C6 -> 6491.472 | D7: =D5+D6 -> 6491.472 | E7: =E5+E6 -> 6491.472 | F7: =F5+F6 -> 6491.472 | G7: =G5+G6 -> 6491.472 | H7: =H5+H6 -> 6491.472 | I7: =I5+I6 -> 6491.472 | J7: =J5+J6 -> 6491.472 | ... N7: =N5+N6 -> 6491.472
B8: Règlement reçu | C8: ='Bilan et CDR N+1'!I14 -> 6302.4 | D8: =C7 -> 6491.472 | E8: =D7 -> 6491.472 | F8: =E7 -> 6491.472 | G8: =F7 -> 6491.472 | H8: =G7 -> 6491.472 | I8: =H7 -> 6491.472 | J8: =I7 -> 6491.472 | K8: =J7 -> 6491.472 | ... N8: =M7 -> 6491.472 | O8: Clients | P8: =N7 -> 6491.472
B11: Budget de achats N+2
C12: Janvier | D12: Février | E12: Mars | F12: Avril | G12: Mai | H12: Juin | I12: Juillet | J12: Août | K12: Septembre | L12: Octobre | M12: Novembre | N12: Décembre | O12: à reporter au bilan ou CDR
O13: élément | P13: Montant
B14: ACHATS HT | C14: =C5*32% -> 1731.0592 | D14: =D5*32% -> 1731.0592 | E14: =E5*32% -> 1731.0592 | F14: =F5*32% -> 1731.0592 | G14: =G5*32% -> 1731.0592 | H14: =H5*32% -> 1731.0592 | I14: =I5*32% -> 1731.0592 | J14: =J5*32% -> 1731.0592 | ... N14: =N5*32% -> 1731.0592 | O14: Achats | P14: =SUM(C14:N14) -> 20772.71
B15: TVA ded sur achats | C15: =C14*20% -> 346.21184 | D15: =D14*20% -> 346.21184 | E15: =E14*20% -> 346.21184 | F15: =F14*20% -> 346.21184 | G15: =G14*20% -> 346.21184 | H15: =H14*20% -> 346.21184 | I15: =I14*20% -> 346.21184 | J15: =J14*20% -> 346.21184 | ... N15: =N14*20% -> 346.21184
B16: Total achat TTC | C16: =C14+C15 -> 2077.271 | D16: =D14+D15 -> 2077.271 | E16: =E14+E15 -> 2077.271 | F16: =F14+F15 -> 2077.271 | G16: =G14+G15 -> 2077.271 | H16: =H14+H15 -> 2077.271 | I16: =I14+I15 -> 2077.271 | J16: =J14+J15 -> 2077.271 | ... N16: =N14+N15 -> 2077.271
B17: Règlement | C17: =C16 -> 2077.271 | D17: =D16 -> 2077.271 | E17: =E16 -> 2077.271 | F17: =F16 -> 2077.271 | G17: =G16 -> 2077.271 | H17: =H16 -> 2077.271 | I17: =I16 -> 2077.271 | J17: =J16 -> 2077.271 | ... N17: =N16 -> 2077.271 | O17: Fournisseurs | P17: 0
B20: Budget de prouduction N+2
C21: Janvier | D21: Février | E21: Mars | F21: Avril | G21: Mai | H21: Juin | I21: Juillet | J21: Août | K21: Septembre | L21: Octobre | M21: Novembre | N21: Décembre | O21: à reporter au bilan ou CDR
O22: élément | P22: Montant
B23: Coûts fixes HT | C23: 7100 | D23: 7100 | E23: 7100 | F23: 7100 | G23: 7100 | H23: 7100 | I23: 7100 | J23: 7100 | K23: 7100 | L23: 7100 | M23: 7100 | N23: 7100 | O23: Autres achats & charges externes | P23: =SUM(C23:N23) -> 85200
B24: TVA sur CF | C24: =C23*20% -> 1420 | D24: =D23*20% -> 1420 | E24: =E23*20% -> 1420 | F24: =F23*20% -> 1420 | G24: =G23*20% -> 1420 | H24: =H23*20% -> 1420 | I24: =I23*20% -> 1420 | J24: =J23*20% -> 1420 | ... N24: =N23*20% -> 1420
B25: Total TTC des CF hors amortissement | C25: =C23+C24 -> 8520 | D25: =D23+D24 -> 8520 | E25: =E23+E24 -> 8520 | F25: =F23+F24 -> 8520 | G25: =G23+G24 -> 8520 | H25: =H23+H24 -> 8520 | I25: =I23+I24 -> 8520 | J25: =J23+J24 -> 8520 | ... N25: =N23+N24 -> 8520
B26: Règlement | C26: =+C23+C24 -> 8520 | D26: =+D23+D24 -> 8520 | E26: =+E23+E24 -> 8520 | F26: =+F23+F24 -> 8520 | G26: =+G23+G24 -> 8520 | H26: =+H23+H24 -> 8520 | I26: =+I23+I24 -> 8520 | J26: =+J23+J24 -> 8520 | ... N26: =+N23+N24 -> 8520
B27: Amortissemements | N27: 7500 | Q27: une fois par an ou une fois par mois les amort
B28: Amortissement Véhicule de tourisme | N28: =P28 -> 3214.2857 | O28: Amortissement nouveau mat | P28: =Emprunt!K4 -> 3214.2857
B29: Amortissement Matériel et outillage | N29: =P29 -> 991.66667 | O29: Amortissement nouveau mat | P29: =Emprunt!K14 -> 991.66667
B30: Total des amortissements | C30: =C27+C28 -> 0 | D30: =D27+D28 -> 0 | E30: =E27+E28 -> 0 | F30: =F27+F28 -> 0 | G30: =G27+G28 -> 0 | H30: =H27+H28 -> 0 | I30: =I27+I28 -> 0 | J30: =J27+J28 -> 0 | ... M30: =M27+M28 -> 0 | N30: =N27+N28+N29 -> 11705.952 | O30: Dotations aux amortissements | P30: =SUM(C30:N30) -> 11705.952
B31: Salaire Net | C31: =307500/12 -> 25625 | D31: =307500/12 -> 25625 | E31: =307500/12 -> 25625 | F31: =307500/12 -> 25625 | G31: =307500/12 -> 25625 | H31: =307500/12 -> 25625 | I31: =307500/12 -> 25625 | J31: =307500/12 -> 25625 | ... N31: =307500/12 -> 25625
B32: Décaissement salaires nets | C32: =C31 -> 25625 | D32: =D31 -> 25625 | E32: =E31 -> 25625 | F32: =F31 -> 25625 | G32: =G31 -> 25625 | H32: =H31 -> 25625 | I32: =I31 -> 25625 | J32: =J31 -> 25625 | ... N32: =N31 -> 25625 | O32: Salaire | P32: =SUM(C32:N32) -> 307500
B33: Charges sociales | C33: =C31*0.4 -> 10250 | D33: =D31*0.4 -> 10250 | E33: =E31*0.4 -> 10250 | F33: =F31*0.4 -> 10250 | G33: =G31*0.4 -> 10250 | H33: =H31*0.4 -> 10250 | I33: =I31*0.4 -> 10250 | J33: =J31*0.4 -> 10250 | ... N33: =N31*0.4 -> 10250 | O33: Charges sociales | P33: =SUM(C33:N33) -> 123000
B34: Décaissement charges sociales | C34: ='Budget Prev 3 années SANS PRECO'!P33 -> 10250 | D34: =C33 -> 10250 | E34: =D33 -> 10250 | F34: =E33 -> 10250 | G34: =F33 -> 10250 | H34: =G33 -> 10250 | I34: =H33 -> 10250 | J34: =I33 -> 10250 | K34: =J33 -> 10250 | ... N34: =M33 -> 10250 | O34: Dette URSSAF | P34: =N33 -> 10250
B37: Budget des autres frais, de l'IS et de l'emprunt N+2
C38: Janvier | D38: Février | E38: Mars | F38: Avril | G38: Mai | H38: Juin | I38: Juillet | J38: Août | K38: Septembre | L38: Octobre | M38: Novembre | N38: Décembre | O38: à reporter au bilan ou CDR
O39: élément | P39: Montant
B40: Impôts et taxes | L40: 8200 | O40: Frais généraux / impôts et taxes | P40: =SUM(C40:N40) -> 8200
B41: Règlement frais généraux | L41: 8200
B42: Intérêts | C42: =$P$42/12 -> 262.5 | D42: =$P$42/12 -> 262.5 | E42: =$P$42/12 -> 262.5 | F42: =$P$42/12 -> 262.5 | G42: =$P$42/12 -> 262.5 | H42: =$P$42/12 -> 262.5 | I42: =$P$42/12 -> 262.5 | J42: =$P$42/12 -> 262.5 | ... N42: =$P$42/12 -> 262.5 | O42: Intérêts et charges assimilés | P42: =Emprunt!D10 -> 3150
B43: Remboursement de l'emprunt | C43: =$P$43/12 -> 2500 | D43: =$P$43/12 -> 2500 | E43: =$P$43/12 -> 2500 | F43: =$P$43/12 -> 2500 | G43: =$P$43/12 -> 2500 | H43: =$P$43/12 -> 2500 | I43: =$P$43/12 -> 2500 | J43: =$P$43/12 -> 2500 | ... N43: =$P$43/12 -> 2500 | O43: Emprunt | P43: =Emprunt!E9 -> 30000 | Q43: a mettre en négatif sans changé le calcul
B44: Règlement | C44: =C42+C43 -> 2762.5 | D44: =D42+D43 -> 2762.5 | E44: =E42+E43 -> 2762.5 | F44: =F42+F43 -> 2762.5 | G44: =G42+G43 -> 2762.5 | H44: =H42+H43 -> 2762.5 | I44: =I42+I43 -> 2762.5 | J44: =J42+J43 -> 2762.5 | ... N44: =N42+N43 -> 2762.5
B47: Budget des investissements N+2
C48: Janvier | D48: Février | E48: Mars | F48: Avril | G48: Mai | H48: Juin | I48: Juillet | J48: Août | K48: Septembre | L48: Octobre | M48: Novembre | N48: Décembre | O48: à reporter au bilan ou CDR
O49: élément | P49: Montant
...

Sheet Bilan et CDR N+2
B3: Compte de résultat Société Red au 31.12.N | F3: Bilan société Red au 31.12.N +2
B4: Prestation de services | C4: ='N+2 '!P5 -> 64914.72 | F4: Actif | G4: Brut | H4: Amort et Dep | I4: Net | J4: Passif | K4: Net
B5: Subvention d'exploitation | C5: 0 | F5: Immobilisations | G5: =SUM(G6:G9) -> 253500 | H5: =SUM(H6:H7) -> 61520.238 | I5: =SUM(I6:I7) -> 191979.76 | J5: Capitaux propres | K5: =SUM(K6:K9) -> -911583.43
B6: Total produits d'exploitation | C6: =C4+C5 -> 64914.72 | F6: Installations techniques, matériel et out. ind | G6: ='N+2 '!H50+159000 -> 176000 | H6: ='Bilan et CDR N+1'!H7+J24+'N+2 '!N29 -> 20636.526 | I6: =G6-H6 -> 155363.47 | J6: Capital | K6: 50000
B7: Achats de MP | C7: ='N+2 '!P14 -> 20772.71 | F7: Autres immobilisations corporelles | G7: ='Bilan et CDR N+1'!G8 -> 77500 | H7: ='Bilan et CDR N+1'!H8+I23+Emprunt!K5 -> 40883.712 | I7: =G7-H7 -> 36616.288 | J7: Réserve légale | K7: 5000
B8: Autres achats et charges externes | C8: ='N+2 '!P23 -> 85200 | J8: Autres réserves et report à nouveau | K8: ='Bilan et CDR N+1'!K9+'Bilan et CDR N+1'!K10 -> -471969.49
B9: Impots, taxes et versements assimilés | C9: ='Budget Prev 3 années SANS PRECO'!P39 -> 8200 | J9: Résultat de l'exercice | K9: =C21 -> -494613.94
B10: Salaires et traitements | C10: ='N+2 '!P32 -> 307500
B11: Charges sociales | C11: ='N+2 '!P33 -> 123000 | F11: Actif circulant | G11: =SUM(G12:G14) -> -1014975.5 | H11: =SUM(H12:H14) -> 0 | I11: =SUM(I12:I14) -> -1014975.5 | J11: Dettes | K11: =SUM(K12:K15) -> 69565.7
B12: Dotations d'exploitation | C12: ='N+2 '!N30 -> 11705.952 | F12: Stock de matières premières | G12: 15000 | I12: =G12-H12 -> 15000 | J12: Emprunts et dettes auprès des établiss. de crédit | K12: =Emprunt!C11 -> 60000
B13: Total charges d'exploitation | C13: =SUM(C7:C12) -> 556378.66 | F13: Créances clients et comptes rattachés | G13: ='N+2 '!P8 -> 6491.472 | I13: =G13-H13 -> 6491.472 | J13: Dettes fournisseurs et comptes rattachés | K13: =0 -> 0
B14: Résultat d'exploitation | C14: =C6-C13 -> -491463.94 | F14: Disponibilités | G14: ='N+2 '!N86 -> -1036467 | I14: =G14-H14 -> -1036467 | J14: Dettes fiscales et sociales | K14: ='N+2 '!P34+'N+2 '!P65 -> 9565.7002
B15: Total produits financiers | C15: 0
B16: Intérêts et charges assimilées | C16: ='N+2 '!P42 -> 3150 | F16: TOTAL ACTIF | G16: =G5+G11 -> -761475.49 | H16: =H5 -> 61520.238 | I16: =G16-H16 -> -822995.73 | J16: TOTAL PASSIF | K16: =K5+K11 -> -842017.73
B17: Total charges financières | C17: =C16 -> 3150 | J17: ECART | K17: =I16-K16 -> 19022
B18: Résultat financier | C18: =C15-C17 -> -3150
B19: Résultat courant avant impôt | C19: =C14-(-C18) -> -494613.94
B20: Résultat exceptionnel | I20: repartion 7500 d amortissement immo
B21: Résultat net | C21: =C19 -> -494613.94 | I21: 55
J22: 159
I23: =I21/J23*7500 -> 1927.5701 | J23: 214
J24: =J22/J23*7500 -> 5572.4299

Sheet N+3
B2: Budget de ventes N+1
C3: Janvier | D3: Février | E3: Mars | F3: Avril | G3: Mai | H3: Juin | I3: Juillet | J3: Août | K3: Septembre | L3: Octobre | M3: Novembre | N3: Décembre | O3: à reporter au bilan ou CDR
O4: élément | P4: Montant
B5: CA HT | C5: ='Bilan et CDR N+2'!$C$4*1.04/12 -> 5625.9424 | D5: ='Bilan et CDR N+2'!$C$4*1.04/12 -> 5625.9424 | E5: ='Bilan et CDR N+2'!$C$4*1.04/12 -> 5625.9424 | F5: ='Bilan et CDR N+2'!$C$4*1.04/12 -> 5625.9424 | G5: ='Bilan et CDR N+2'!$C$4*1.04/12 -> 5625.9424 | H5: ='Bilan et CDR N+2'!$C$4*1.04/12 -> 5625.9424 | I5: ='Bilan et CDR N+2'!$C$4*1.04/12 -> 5625.9424 | J5: ='Bilan et CDR N+2'!$C$4*1.04/12 -> 5625.9424 | ... N5: ='Bilan et CDR N+2'!$C$4*1.04/12 -> 5625.9424 | O5: Prestation de services | P5: =SUM(C5:N5) -> 67511.309
B6: TVA collectée | C6: =C5*20% -> 1125.1885 | D6: =D5*20% -> 1125.1885 | E6: =E5*20% -> 1125.1885 | F6: =F5*20% -> 1125.1885 | G6: =G5*20% -> 1125.1885 | H6: =H5*20% -> 1125.1885 | I6: =I5*20% -> 1125.1885 | J6: =J5*20% -> 1125.1885 | ... N6: =N5*20% -> 1125.1885
B7: CA TTC | C7: =C5+C6 -> 6751.1309 | D7: =D5+D6 -> 6751.1309 | E7: =E5+E6 -> 6751.1309 | F7: =F5+F6 -> 6751.1309 | G7: =G5+G6 -> 6751.1309 | H7: =H5+H6 -> 6751.1309 | I7: =I5+I6 -> 6751.1309 | J7: =J5+J6 -> 6751.1309 | ... N7: =N5+N6 -> 6751.1309
B8: Règlement reçu | C8: ='Bilan et CDR N+2'!I13 -> 6491.472 | D8: =C7 -> 6751.1309 | E8: =D7 -> 6751.1309 | F8: =E7 -> 6751.1309 | G8: =F7 -> 6751.1309 | H8: =G7 -> 6751.1309 | I8: =H7 -> 6751.1309 | J8: =I7 -> 6751.1309 | K8: =J7 -> 6751.1309 | ... N8: =M7 -> 6751.1309 | O8: Clients | P8: =N7 -> 6751.1309
B11: Budget de achats N+1
C12: Janvier | D12: Février | E12: Mars | F12: Avril | G12: Mai | H12: Juin | I12: Juillet | J12: Août | K12: Septembre | L12: Octobre | M12: Novembre | N12: Décembre | O12: à reporter au bilan ou CDR
O13: élément | P13: Montant
B14: ACHATS HT | C14: =C5*34% -> 1912.8204 | D14: =D5*34% -> 1912.8204 | E14: =E5*34% -> 1912.8204 | F14: =F5*34% -> 1912.8204 | G14: =G5*34% -> 1912.8204 | H14: =H5*34% -> 1912.8204 | I14: =I5*34% -> 1912.8204 | J14: =J5*34% -> 1912.8204 | ... N14: =N5*34% -> 1912.8204 | O14: Achats | P14: =SUM(C14:N14) -> 22953.845
B15: TVA ded sur achats | C15: =C14*20% -> 382.56408 | D15: =D14*20% -> 382.56408 | E15: =E14*20% -> 382.56408 | F15: =F14*20% -> 382.56408 | G15: =G14*20% -> 382.56408 | H15: =H14*20% -> 382.56408 | I15: =I14*20% -> 382.56408 | J15: =J14*20% -> 382.56408 | ... N15: =N14*20% -> 382.56408
B16: Total achat TTC | C16: =C14+C15 -> 2295.3845 | D16: =D14+D15 -> 2295.3845 | E16: =E14+E15 -> 2295.3845 | F16: =F14+F15 -> 2295.3845 | G16: =G14+G15 -> 2295.3845 | H16: =H14+H15 -> 2295.3845 | I16: =I14+I15 -> 2295.3845 | J16: =J14+J15 -> 2295.3845 | ... N16: =N14+N15 -> 2295.3845
B17: Règlement | C17: =C16 -> 2295.3845 | D17: =D16 -> 2295.3845 | E17: =E16 -> 2295.3845 | F17: =F16 -> 2295.3845 | G17: =G16 -> 2295.3845 | H17: =H16 -> 2295.3845 | I17: =I16 -> 2295.3845 | J17: =J16 -> 2295.3845 | ... N17: =N16 -> 2295.3845 | O17: Fournisseurs | P17: 0
B20: Budget de prouduction N+1
C21: Janvier | D21: Février | E21: Mars | F21: Avril | G21: Mai | H21: Juin | I21: Juillet | J21: Août | K21: Septembre | L21: Octobre | M21: Novembre | N21: Décembre | O21: à reporter au bilan ou CDR
O22: élément | P22: Montant
B23: Coûts fixes HT | C23: 7100 | D23: 7100 | E23: 7100 | F23: 7100 | G23: 7100 | H23: 7100 | I23: 7100 | J23: 7100 | K23: 7100 | L23: 7100 | M23: 7100 | N23: 7100 | O23: Autres achats & charges externes | P23: =SUM(C23:N23) -> 85200
B24: TVA sur CF | C24: =C23*20% -> 1420 | D24: =D23*20% -> 1420 | E24: =E23*20% -> 1420 | F24: =F23*20% -> 1420 | G24: =G23*20% -> 1420 | H24: =H23*20% -> 1420 | I24: =I23*20% -> 1420 | J24: =J23*20% -> 1420 | ... N24: =N23*20% -> 1420
B25: Total TTC des CF hors amortissement | C25: =C23+C24 -> 8520 | D25: =D23+D24 -> 8520 | E25: =E23+E24 -> 8520 | F25: =F23+F24 -> 8520 | G25: =G23+G24 -> 8520 | H25: =H23+H24 -> 8520 | I25: =I23+I24 -> 8520 | J25: =J23+J24 -> 8520 | ... N25: =N23+N24 -> 8520
B26: Règlement | C26: =+C23+C24 -> 8520 | D26: =+D23+D24 -> 8520 | E26: =+E23+E24 -> 8520 | F26: =+F23+F24 -> 8520 | G26: =+G23+G24 -> 8520 | H26: =+H23+H24 -> 8520 | I26: =+I23+I24 -> 8520 | J26: =+J23+J24 -> 8520 | ... N26: =+N23+N24 -> 8520
B27: Amortissemements | N27: 7500 | Q27: une fois par an ou une fois par mois les amort
B28: Amortissement Véhicule de tourisme | N28: =P28 -> 3214.2857 | O28: Amortissement nouveau mat | P28: =Emprunt!K4 -> 3214.2857
B29: Amortissement Matériel et outillage | N29: =Emprunt!K15 -> 1700 | O29: Amortissement nouveau mat | P29: =N29 -> 1700
B30: Amortissement Camionnette | N30: =P30 -> 3200 | O30: Amortissement nouveau mat | P30: =Emprunt!K28 -> 3200
B31: Total des amortissements | C31: =C27+C28 -> 0 | D31: =D27+D28 -> 0 | E31: =E27+E28 -> 0 | F31: =F27+F28 -> 0 | G31: =G27+G28 -> 0 | H31: =H27+H28 -> 0 | I31: =I27+I28 -> 0 | J31: =J27+J28 -> 0 | ... M31: =M27+M28 -> 0 | N31: =N27+N28+N29+N30 -> 15614.286 | O31: Dotations aux amortissements | P31: =SUM(C31:N31) -> 15614.286
B32: Salaire Net | C32: =307500/12 -> 25625 | D32: =307500/12 -> 25625 | E32: =307500/12 -> 25625 | F32: =307500/12 -> 25625 | G32: =307500/12 -> 25625 | H32: =307500/12 -> 25625 | I32: =307500/12 -> 25625 | J32: =307500/12 -> 25625 | ... N32: =307500/12 -> 25625
B33: Décaissement salaires nets | C33: =C32 -> 25625 | D33: =D32 -> 25625 | E33: =E32 -> 25625 | F33: =F32 -> 25625 | G33: =G32 -> 25625 | H33: =H32 -> 25625 | I33: =I32 -> 25625 | J33: =J32 -> 25625 | ... N33: =N32 -> 25625 | O33: Salaire | P33: =SUM(C33:N33) -> 307500
B34: Charges sociales | C34: =C32*0.4 -> 10250 | D34: =D32*0.4 -> 10250 | E34: =E32*0.4 -> 10250 | F34: =F32*0.4 -> 10250 | G34: =G32*0.4 -> 10250 | H34: =H32*0.4 -> 10250 | I34: =I32*0.4 -> 10250 | J34: =J32*0.4 -> 10250 | ... N34: =N32*0.4 -> 10250 | O34: Charges sociales | P34: =SUM(C34:N34) -> 123000
B35: Décaissement charges sociales | C35: ='N+2 '!P34 -> 10250 | D35: =C34 -> 10250 | E35: =D34 -> 10250 | F35: =E34 -> 10250 | G35: =F34 -> 10250 | H35: =G34 -> 10250 | I35: =H34 -> 10250 | J35: =I34 -> 10250 | K35: =J34 -> 10250 | ... N35: =M34 -> 10250 | O35: Dette URSSAF | P35: =N34 -> 10250
B38: Budget des autres frais, de l'IS et de l'emprunt N+1
C39: Janvier | D39: Février | E39: Mars | F39: Avril | G39: Mai | H39: Juin | I39: Juillet | J39: Août | K39: Septembre | L39: Octobre | M39: Novembre | N39: Décembre | O39: à reporter au bilan ou CDR
O40: élément | P40: Montant
B41: Impôts et taxes | L41: 8200 | O41: Frais généraux / impôts et taxes | P41: =SUM(C41:N41) -> 8200
B42: Règlement frais généraux | L42: 8200
B43: Intérêts | C43: =$P$43/12 -> 175 | D43: =$P$43/12 -> 175 | E43: =$P$43/12 -> 175 | F43: =$P$43/12 -> 175 | G43: =$P$43/12 -> 175 | H43: =$P$43/12 -> 175 | I43: =$P$43/12 -> 175 | J43: =$P$43/12 -> 175 | ... N43: =$P$43/12 -> 175 | O43: Intérêts et charges assimilés | P43: =Emprunt!D11 -> 2100
B44: Remboursement de l'emprunt | C44: =$P$44/12 -> 2500 | D44: =$P$44/12 -> 2500 | E44: =$P$44/12 -> 2500 | F44: =$P$44/12 -> 2500 | G44: =$P$44/12 -> 2500 | H44: =$P$44/12 -> 2500 | I44: =$P$44/12 -> 2500 | J44: =$P$44/12 -> 2500 | ... N44: =$P$44/12 -> 2500 | O44: Emprunt | P44: =Emprunt!E9 -> 30000 | Q44: a mettre en négatif sans changé le calcul
B45: Règlement | C45: =C43+C44 -> 2675 | D45: =D43+D44 -> 2675 | E45: =E43+E44 -> 2675 | F45: =F43+F44 -> 2675 | G45: =G43+G44 -> 2675 | H45: =H43+H44 -> 2675 | I45: =I43+I44 -> 2675 | J45: =J43+J44 -> 2675 | ... N45: =N43+N44 -> 2675
B48: Budget des investissements N+1
C49: Janvier | D49: Février | E49: Mars | F49: Avril | G49: Mai | H49: Juin | I49: Juillet | J49: Août | K49: Septembre | L49: Octobre | M49: Novembre | N49: Décembre | O49: à reporter au bilan ou CDR
...

Sheet Bilan et CDR N+3
B4: Compte de résultat Société Red au 31.12.N+3 | F4: Bilan société Red au 31.12.N +3
B5: Prestation de services | C5: ='N+3'!P5 -> 67511.309 | F5: Actif | G5: Brut | H5: Amort et Dep | I5: Net | J5: Passif | K5: Net
B6: Subvention d'exploitation | C6: 0 | F6: Immobilisations | G6: =SUM(G7:G10) -> 275900 | H6: =SUM(H7:H8) -> 77134.524 | I6: =SUM(I7:I8) -> 198765.48 | J6: Capitaux propres | K6: =SUM(K7:K10) -> -1408640.3
B7: Total produits d'exploitation | C7: =C5+C6 -> 67511.309 | F7: Installations techniques, matériel et out. ind | G7: ='Bilan et CDR N+2'!G6 -> 176000 | H7: ='Bilan et CDR N+2'!H6+J25+'N+3'!N29 -> 27908.956 | I7: =G7-H7 -> 148091.04 | J7: Capital | K7: 50000
B8: Achats de MP | C8: ='N+3'!P14 -> 22953.845 | F8: Autres immobilisations corporelles | G8: ='Bilan et CDR N+2'!G7+'N+3'!P51 -> 99900 | H8: ='Bilan et CDR N+2'!H7+I24+'N+3'!N28+'N+3'!N30 -> 49225.567 | I8: =G8-H8 -> 50674.433 | J8: Réserve légale | K8: 5000
B9: Autres achats et charges externes | C9: ='N+3'!P23 -> 85200 | J9: Autres réserves et report à nouveau | K9: ='Bilan et CDR N+2'!K8+'Bilan et CDR N+2'!K9 -> -966583.43
B10: Impots, taxes et versements assimilés | C10: ='N+3'!P41 -> 8200 | J10: Résultat de l'exercice | K10: =C22 -> -497056.82
B11: Salaires et traitements | C11: ='N+3'!P33 -> 307500
B12: Charges sociales | C12: ='N+3'!P34 -> 123000 | F12: Actif circulant | G12: =SUM(G13:G15) -> -1548811.1 | H12: =SUM(H13:H15) -> 0 | I12: =SUM(I13:I15) -> -1548811.1 | J12: Dettes | K12: =SUM(K13:K16) -> 39572.624
B13: Dotations d'exploitation | C13: ='N+3'!P31 -> 15614.286 | F13: Stock de matières premières | G13: 15000 | I13: =G13-H13 -> 15000 | J13: Emprunts et dettes auprès des établiss. de crédit | K13: =Emprunt!G11 -> 30000
B14: Total charges d'exploitation | C14: =SUM(C8:C13) -> 562468.13 | F14: Créances clients et comptes rattachés | G14: ='N+3'!P8 -> 6751.1309 | I14: =G14-H14 -> 6751.1309 | J14: Dettes fournisseurs et comptes rattachés | K14: 0
B15: Résultat d'exploitation | C15: =C7-C14 -> -494956.82 | F15: Disponibilités | G15: ='N+3'!N87 -> -1570562.2 | I15: =G15-H15 -> -1570562.2 | J15: Dettes fiscales et sociales | K15: ='N+3'!P35+'N+3'!P66 -> 9572.6244
B16: Total produits financiers | C16: 0
B17: Intérêts et charges assimilées | C17: ='N+3'!P43 -> 2100 | F17: TOTAL ACTIF | G17: =G6+G12 -> -1272911.1 | H17: =H6 -> 77134.524 | I17: =G17-H17 -> -1350045.6 | J17: TOTAL PASSIF | K17: =K6+K12 -> -1369067.6
B18: Total charges financières | C18: =C17 -> 2100 | J18: ECART | K18: =I17-K17 -> 19022
B19: Résultat financier | C19: =C16-C18 -> -2100
B20: Résultat courant avant impôt | C20: =C15-(-C19) -> -497056.82
B21: Résultat exceptionnel | I21: repartion 7500 d amortissement immo
B22: Résultat net | C22: =C20 -> -497056.82 | I22: 55
J23: 159
I24: =I22/J24*7500 -> 1927.5701 | J24: 214
J25: =J23/J24*7500 -> 5572.4299

Sheet Emprunt
B2: Années | C2: Capital début de période | D2: Intérêts | E2: Amortissements | F2: Annuités | G2: Capital fin de période | I2: Véhicule du tourisme - Janvier N+1 | O2: Véhicule du tourisme - Janvier N+1 Crédit bail
B3: 1 | C3: 300000 | D3: =C3*0.035 -> 10500 | E3: =300000/10 -> 30000 | F3: =D3+E3 -> 40500 | G3: =C3-E3 -> 270000 | I3: Années | J3: Prix d'achat HT | K3: Amortissements | L3: Total | O3: Années | P3: Prix d'achat HT | Q3: Amortissements | R3: VNC? | S3: Loyer | T3: Rachat
B4: 2 | C4: =G3 -> 270000 | D4: =C4*0.035 -> 9450 | E4: =300000/10 -> 30000 | F4: =D4+E4 -> 39450 | G4: =C4-E4 -> 240000 | I4: 1 | J4: 22500 | K4: =J$4/7 -> 3214.2857 | L4: =J4-K4 -> 19285.714 | O4: 1 | P4: 22500 | Q4: =P$4/7 -> 3214.2857 | R4: =P4-Q4 -> 19285.714 | S4: =Q4*1.15 -> 3696.4286
B5: 3 | C5: =G4 -> 240000 | D5: =C5*0.035 -> 8400 | E5: =300000/10 -> 30000 | F5: =D5+E5 -> 38400 | G5: =C5-E5 -> 210000 | I5: 2 | J5: =L4 -> 19285.714 | K5: =J$4/7 -> 3214.2857 | L5: =J5-K5 -> 16071.429 | O5: 2 | P5: =R4 -> 19285.714 | Q5: =P$4/7 -> 3214.2857 | R5: =P5-Q5 -> 16071.429 | S5: =Q5*1.15 -> 3696.4286
B6: 4 | C6: =G5 -> 210000 | D6: =C6*0.035 -> 7350 | E6: =300000/10 -> 30000 | F6: =D6+E6 -> 37350 | G6: =C6-E6 -> 180000 | I6: 3 | J6: =L5 -> 16071.429 | K6: =J$4/7 -> 3214.2857 | L6: =J6-K6 -> 12857.143 | O6: 3 | P6: =R5 -> 16071.429 | Q6: =P$4/7 -> 3214.2857 | R6: =P6-Q6 -> 12857.143 | S6: =Q6*1.15 -> 3696.4286
B7: 5 | C7: =G6 -> 180000 | D7: =C7*0.035 -> 6300 | E7: =300000/10 -> 30000 | F7: =D7+E7 -> 36300 | G7: =C7-E7 -> 150000 | I7: 4 | J7: =L6 -> 12857.143 | K7: =J$4/7 -> 3214.2857 | L7: =J7-K7 -> 9642.8571 | O7: 4 | P7: =R6 -> 12857.143 | Q7: =P$4/7 -> 3214.2857 | R7: =P7-Q7 -> 9642.8571 | S7: =Q7*1.15 -> 3696.4286
A8: n | B8: 6 | C8: =G7 -> 150000 | D8: =C8*0.035 -> 5250 | E8: =300000/10 -> 30000 | F8: =D8+E8 -> 35250 | G8: =C8-E8 -> 120000 | I8: 5 | J8: =L7 -> 9642.8571 | K8: =J$4/7 -> 3214.2857 | L8: =J8-K8 -> 6428.5714 | O8: 5 | P8: =R7 -> 9642.8571 | Q8: =P$4/7 -> 3214.2857 | R8: =P8-Q8 -> 6428.5714 | S8: =Q8*1.15 -> 3696.4286 | T8: =R8 -> 6428.5714
A9: n+1 | B9: 7 | C9: =G8 -> 120000 | D9: =C9*0.035 -> 4200 | E9: =300000/10 -> 30000 | F9: =D9+E9 -> 34200 | G9: =C9-E9 -> 90000 | I9: 6 | J9: =L8 -> 6428.5714 | K9: =J$4/7 -> 3214.2857 | L9: =J9-K9 -> 3214.2857 | O9: 6 | P9: =R8 -> 6428.5714 | Q9: =P$4/7 -> 3214.2857 | R9: =P9-Q9 -> 3214.2857
A10: n+2 | B10: 8 | C10: =G9 -> 90000 | D10: =C10*0.035 -> 3150 | E10: =300000/10 -> 30000 | F10: =D10+E10 -> 33150 | G10: =C10-E10 -> 60000 | I10: 7 | J10: =L9 -> 3214.2857 | K10: =J$4/7 -> 3214.2857 | L10: =J10-K10 -> 0 | O10: 7 | P10: =R9 -> 3214.2857 | Q10: =P$4/7 -> 3214.2857 | R10: =P10-Q10 -> 0
A11: n+3 | B11: 9 | C11: =G10 -> 60000 | D11: =C11*0.035 -> 2100 | E11: =300000/10 -> 30000 | F11: =D11+E11 -> 32100 | G11: =C11-E11 -> 30000
A12: n+4 | B12: 10 | C12: =G11 -> 30000 | D12: =C12*0.035 -> 1050 | E12: =300000/10 -> 30000 | F12: =D12+E12 -> 31050 | G12: =C12-E12 -> 0 | I12: Matériel et outillage - Juin N+2 | O12: Matériel et outillage - Juin N+2 Crédit bail
I13: Années | J13: Prix d'achat HT | K13: Amortissements | L13: Total | O13: Années | P13: Prix d'achat HT | Q13: Amortissements | R13: Total | S13: Loyer | T13: Rachat
I14: 1 | J14: 17000 | K14: =J14/10*(7/12) -> 991.66667 | L14: =J14-K14 -> 16008.333 | O14: 1 | P14: 17000 | Q14: =P14/10*(7/12) -> 991.66667 | R14: =P14-Q14 -> 16008.333 | S14: =Q14*1.15 -> 1140.4167
